BEGIN:VCALENDAR
VERSION:2.0
PRODID:-//Arizona Art Supply - ECPv6.15.6//NONSGML v1.0//EN
CALSCALE:GREGORIAN
METHOD:PUBLISH
X-ORIGINAL-URL:https://arizonaartsupply.com
X-WR-CALDESC:Events for Arizona Art Supply
REFRESH-INTERVAL;VALUE=DURATION:PT1H
X-Robots-Tag:noindex
X-PUBLISHED-TTL:PT1H
BEGIN:VTIMEZONE
TZID:UTC
BEGIN:STANDARD
TZOFFSETFROM:+0000
TZOFFSETTO:+0000
TZNAME:UTC
DTSTART:20240101T000000
END:STANDARD
END:VTIMEZONE
BEGIN:VEVENT
DTSTART;VALUE=DATE:20250901
DTEND;VALUE=DATE:20250902
DTSTAMP:20260423T041056
CREATED:20250822T174907Z
LAST-MODIFIED:20250822T174959Z
UID:10002520-1756684800-1756771199@arizonaartsupply.com
SUMMARY:Open: Labor Day!
DESCRIPTION:We are open shortened store hours at both our Tucson and Phoenix locations this Labor Day to allow for our staff to spend with their friends and family. If you’re looking to paint\, draw\, or create something during your extended weekend\, then don’t wait until the last minute. \nWe’ll be open and operating under shortened store hours on Monday\, September 1st (10:00 am to 5:00 pm) and resume regular store hours the following Tuesday\, September 2nd. We hope you all have a safe Labor Day! \n—— Our Regular Hours —— \nTucson: \nMonday-Saturday: 9:30 am to 6:00 pm \nSunday: 12:00 pm to 5:00 pm \nPhoenix: \nMonday-Saturday: 9:00 am to 6:00 pm \nSunday: 12:00 pm to 5:00 pm
URL:https://arizonaartsupply.com/event/open-labor-day/
ATTACH;FMTTYPE=image/png:https://arizonaartsupply.com/wp-content/uploads/2025/08/Screenshot-403.png
END:VEVENT
END:VCALENDAR