BEGIN:VCALENDAR
VERSION:2.0
PRODID:-//Arizona Art Supply - ECPv6.15.6//NONSGML v1.0//EN
CALSCALE:GREGORIAN
METHOD:PUBLISH
X-ORIGINAL-URL:https://arizonaartsupply.com
X-WR-CALDESC:Events for Arizona Art Supply
REFRESH-INTERVAL;VALUE=DURATION:PT1H
X-Robots-Tag:noindex
X-PUBLISHED-TTL:PT1H
BEGIN:VTIMEZONE
TZID:UTC
BEGIN:STANDARD
TZOFFSETFROM:+0000
TZOFFSETTO:+0000
TZNAME:UTC
DTSTART:20240101T000000
END:STANDARD
END:VTIMEZONE
BEGIN:VEVENT
DTSTART;TZID=UTC:20251101T093000
DTEND;TZID=UTC:20251101T150000
DTSTAMP:20260420T122022
CREATED:20250902T221536Z
LAST-MODIFIED:20250920T185014Z
UID:10002521-1761989400-1762009200@arizonaartsupply.com
SUMMARY:PHX: "Design Your Own Cards" w/ Grace Haverty!
DESCRIPTION:(This class is available in our PHOENIX store only) Tired of over paying for cards? Can’t find a design that you like? Then join Grace Haverty on November 1st from 9:30-3:00! She’ll supply six note cards to paint on\, take home\, and share with your loved ones. After taking this class\, Grace guarantees that you’ll never buy another card again. Plus\, you’ll have a fun and exciting day! \nWant to join? Call Grace Haverty directly to sign up at 602-980-0468!
URL:https://arizonaartsupply.com/event/phx-upcoming-class-w-grace-haverty-7/
END:VEVENT
END:VCALENDAR