BEGIN:VCALENDAR
VERSION:2.0
PRODID:-//Arizona Art Supply - ECPv6.15.6//NONSGML v1.0//EN
CALSCALE:GREGORIAN
METHOD:PUBLISH
X-ORIGINAL-URL:https://arizonaartsupply.com
X-WR-CALDESC:Events for Arizona Art Supply
REFRESH-INTERVAL;VALUE=DURATION:PT1H
X-Robots-Tag:noindex
X-PUBLISHED-TTL:PT1H
BEGIN:VTIMEZONE
TZID:UTC
BEGIN:STANDARD
TZOFFSETFROM:+0000
TZOFFSETTO:+0000
TZNAME:UTC
DTSTART:20230101T000000
END:STANDARD
END:VTIMEZONE
BEGIN:VEVENT
DTSTART;TZID=UTC:20240404T093000
DTEND;TZID=UTC:20240404T153000
DTSTAMP:20260425T113335
CREATED:20240229T200328Z
LAST-MODIFIED:20240815T211456Z
UID:10000020-1712223000-1712244600@arizonaartsupply.com
SUMMARY:"Loose and Free Watercolor Workshop" with Grace Haverty
DESCRIPTION:
URL:https://arizonaartsupply.com/event/loose-and-free-watercolor-workshop-with-grace-haverty/
END:VEVENT
BEGIN:VEVENT
DTSTART;TZID=UTC:20240406T100000
DTEND;TZID=UTC:20240406T140000
DTSTAMP:20260425T113335
CREATED:20240229T200412Z
LAST-MODIFIED:20240815T211455Z
UID:10000021-1712397600-1712412000@arizonaartsupply.com
SUMMARY:"Metal Embossing for Beginners" with Terri Valencia
DESCRIPTION:
URL:https://arizonaartsupply.com/event/metal-embossing/
END:VEVENT
BEGIN:VEVENT
DTSTART;TZID=UTC:20240413T093000
DTEND;TZID=UTC:20240413T153000
DTSTAMP:20260425T113335
CREATED:20240229T200512Z
LAST-MODIFIED:20240815T211454Z
UID:10000022-1713000600-1713022200@arizonaartsupply.com
SUMMARY:"Free and Loose Watercolors - People and Action" with Grace Haverty
DESCRIPTION:
URL:https://arizonaartsupply.com/event/free-and-loose/
END:VEVENT
END:VCALENDAR