BEGIN:VCALENDAR
VERSION:2.0
PRODID:-//Arizona Art Supply - ECPv6.15.6//NONSGML v1.0//EN
CALSCALE:GREGORIAN
METHOD:PUBLISH
X-WR-CALNAME:Arizona Art Supply
X-ORIGINAL-URL:https://arizonaartsupply.com
X-WR-CALDESC:Events for Arizona Art Supply
REFRESH-INTERVAL;VALUE=DURATION:PT1H
X-Robots-Tag:noindex
X-PUBLISHED-TTL:PT1H
BEGIN:VTIMEZONE
TZID:UTC
BEGIN:STANDARD
TZOFFSETFROM:+0000
TZOFFSETTO:+0000
TZNAME:UTC
DTSTART:20230101T000000
END:STANDARD
END:VTIMEZONE
BEGIN:VTIMEZONE
TZID:America/Phoenix
BEGIN:STANDARD
TZOFFSETFROM:-0700
TZOFFSETTO:-0700
TZNAME:MST
DTSTART:20230101T000000
END:STANDARD
END:VTIMEZONE
BEGIN:VEVENT
DTSTART;TZID=UTC:20240918T100000
DTEND;TZID=UTC:20240918T140000
DTSTAMP:20260422T152759
CREATED:20240906T204213Z
LAST-MODIFIED:20260212T190529Z
UID:10000838-1726653600-1726668000@arizonaartsupply.com
SUMMARY:PHX: "Watercolor Class" w/ Marion Droge!
DESCRIPTION:(This class is available in our PHOENIX store only) Join Marion Droge every Wednesday\, from 10:00 a.m. to 2:00 p.m.\, for a fun and lively watercolor class! This class is open to all skill levels\, so don’t be afraid to join! Expect to learn the basics in understanding watercolors\, brushstroke techniques\, composition and design\, and which materials are best suited to you and your needs. \nEach student will bring their own reference photo and work individually on their own piece. During the class\, each student will receive personalized\, tailored\, instructions and guidance from Marion. Get ready to explore and expand both your creativity and artistic talent! \nIf you would like to view some of Marion’s artwork or read more about her as an artist\, then click the link here: www.mariondroge.com \n  \n(For any questions regarding the class\, contact Marion Droge at 602-380-7834 or mdrogaz@cox.net) \nA $160.00/4 consecutive classes fee ($40.00/ea) is required to participate in this class. Payment must be made out to Marion Droge; registration and payment must be made out to the instructor. \n 
URL:https://arizonaartsupply.com/event/phx-watercolor-class-w-marion-droge/2024-09-18/
LOCATION:Arizona Art Supply (Phoenix)\, 4025 N. 16th ST\, Phoenix\, AZ\, 85016\, United States
ATTACH;FMTTYPE=image/jpeg:https://arizonaartsupply.com/wp-content/uploads/2024/09/MARION-DROGE-WC-1.jpg
END:VEVENT
BEGIN:VEVENT
DTSTART;TZID=UTC:20240911T100000
DTEND;TZID=UTC:20240911T140000
DTSTAMP:20260422T152759
CREATED:20240906T204213Z
LAST-MODIFIED:20260212T190529Z
UID:10000837-1726048800-1726063200@arizonaartsupply.com
SUMMARY:PHX: "Watercolor Class" w/ Marion Droge!
DESCRIPTION:(This class is available in our PHOENIX store only) Join Marion Droge every Wednesday\, from 10:00 a.m. to 2:00 p.m.\, for a fun and lively watercolor class! This class is open to all skill levels\, so don’t be afraid to join! Expect to learn the basics in understanding watercolors\, brushstroke techniques\, composition and design\, and which materials are best suited to you and your needs. \nEach student will bring their own reference photo and work individually on their own piece. During the class\, each student will receive personalized\, tailored\, instructions and guidance from Marion. Get ready to explore and expand both your creativity and artistic talent! \nIf you would like to view some of Marion’s artwork or read more about her as an artist\, then click the link here: www.mariondroge.com \n  \n(For any questions regarding the class\, contact Marion Droge at 602-380-7834 or mdrogaz@cox.net) \nA $160.00/4 consecutive classes fee ($40.00/ea) is required to participate in this class. Payment must be made out to Marion Droge; registration and payment must be made out to the instructor. \n 
URL:https://arizonaartsupply.com/event/phx-watercolor-class-w-marion-droge/2024-09-11/
LOCATION:Arizona Art Supply (Phoenix)\, 4025 N. 16th ST\, Phoenix\, AZ\, 85016\, United States
ATTACH;FMTTYPE=image/jpeg:https://arizonaartsupply.com/wp-content/uploads/2024/09/MARION-DROGE-WC-1.jpg
END:VEVENT
BEGIN:VEVENT
DTSTART;TZID=UTC:20240831T130000
DTEND;TZID=UTC:20240831T160000
DTSTAMP:20260422T152759
CREATED:20240820T183029Z
LAST-MODIFIED:20240820T183029Z
UID:10000311-1725109200-1725120000@arizonaartsupply.com
SUMMARY:TUC: Free "Pan Pastel Workshop" w/ Pat Dolan!
DESCRIPTION:(This class is available in our TUCSON store only) Join Pat Dolan as he guides in understanding the ins and outs to Pan Pastels! This live demo will be hosted here at our Tucson location on Saturday\, August 31st from 1:00 p.m. to 4:00 p.m. \nLearn how to apply Pan Pastels using the Sofft Sponges\, mix your own colors\, create underpaintings for your work\, and how to create beautiful backgrounds. All you need to do to participate in this FREE demo is to bring your own supplies and sign up for your spot! \nTo sign up\, either call us at 520-388-5555 or come in to our Tucson location store\, it’s that simple! \nWe recommend bringing the following supplies listed to fully understand how to use Pan Pastels: 5 or 6 Pan Pastels (in whichever colors you prefer)\, a #1 or #2 Sofft Sponge knife\, the mixed Sofft Sponge set\, and either the Pastel Mat paper (in either dark blue\, maize\, or buttercup) or the Canson XL Mixed Media sketchbook (in either cream or grey)! \nDon’t have some of these items? No worries! Stop by our store and pick up all the materials you need! Have any questions on the products? Then don’t hesitate to ask one of our lovely employees for more information about our amazing products! \nWe hope to see many of you there\, happy creating! \n 
URL:https://arizonaartsupply.com/event/tuc-free-pan-pastel-workshop-w-pat-dolan/
LOCATION:Arizona Art Supply (Tucson)\, 4343 N. Oracle Rd. Suite 101\, Tucson\, AZ\, 85705\, United States
END:VEVENT
BEGIN:VEVENT
DTSTART;TZID=UTC:20240824T133000
DTEND;TZID=UTC:20240824T163000
DTSTAMP:20260422T152759
CREATED:20240820T201230Z
LAST-MODIFIED:20240820T201230Z
UID:10000313-1724506200-1724517000@arizonaartsupply.com
SUMMARY:TUC: "Acrylic Portrait Demo" w/ Christine Grace!
DESCRIPTION:Join us at our Tucson location this upcoming Saturday\, August 24th from 1:30 p.m. to 4:30 p.m. to watch this FREE\, live\, demo! \nDoes this class sound familiar? That’s cause it’s the second part to Christine’s previous acrylic portrait demo! Join in on this one to watch and see her apply the finishing touches and final details! As she works\, learn about color blending and color mixing\, different blending techniques\, tips for painting in layers\, and tips for creating ideal paint consistencies for each layer. Want to join and watch? Then don’t wait\, sign up today! \nAll you need to do to participate in this FREE demo is sign up! To sign up\, either call us at 520-388-5555 or come in to our Tucson location store\, it’s that simple! \nWe hope to see many of you there\, happy creating!
URL:https://arizonaartsupply.com/event/tuc-acrylic-portrait-demo-w-christine-grace/
LOCATION:Arizona Art Supply (Tucson)\, 4343 N. Oracle Rd. Suite 101\, Tucson\, AZ\, 85705\, United States
END:VEVENT
BEGIN:VEVENT
DTSTART;TZID=UTC:20240823T130000
DTEND;TZID=UTC:20240823T160000
DTSTAMP:20260422T152759
CREATED:20240820T193008Z
LAST-MODIFIED:20240820T193008Z
UID:10000312-1724418000-1724428800@arizonaartsupply.com
SUMMARY:TUC: Free "Intuitive Paint Workshop" w/ Katie Reynolds!
DESCRIPTION:(This class is available in our TUCSON store only) Join us at our Tucson location this upcoming Friday\, August 23rd from 1 p.m. to 4 p.m. to participate in this FREE\, live\, demo hosted by Katie Reynolds! \nLearning how to intuitively use your mind to create a unique acrylic painting can be a freeing experience! The first step to intuitive painting? Letting go and letting your creativity take control. Want to join in on this demo? Then sign up today! \nAll you need to do to participate in this FREE workshop is to bring your own supplies and either call us at 520-388-5555 or come in to our Tucson location store to reserve your seat! \nWe recommend bringing the following supplies listed so you can participate: a medium sized canvas\, sponge/foam brushes\, tools for mark and texture making (i.e. stencils\, bubble wrap\, stamps\, etc.)\, acrylic paint (we recommend either Liquitex Basics or Golden heavy body) including black and white\, various sized and styled brushes\, a spray bottle\, rag\, and palette! \nDon’t have some of these items? No worries! Stop by our store and take a look at what we have to offer. Have any questions on the products? Then don’t hesitate to ask one of our lovely employees for more information! \nWe hope to see many of you there\, happy creating! \nWant to view some of Katie’s work? click here to access her website!
URL:https://arizonaartsupply.com/event/tuc-free-intuitive-paint-workshop-w-katie-reynolds/
LOCATION:Arizona Art Supply (Tucson)\, 4343 N. Oracle Rd. Suite 101\, Tucson\, AZ\, 85705\, United States
END:VEVENT
BEGIN:VEVENT
DTSTART;TZID=UTC:20240816T100000
DTEND;TZID=UTC:20240816T150000
DTSTAMP:20260422T152759
CREATED:20240713T182416Z
LAST-MODIFIED:20240815T211449Z
UID:10000288-1723802400-1723820400@arizonaartsupply.com
SUMMARY:PHX: "Abstract Mixed-Media Collage Landscapes" w/ Sherry Kimmel!
DESCRIPTION:(This class is available in our PHOENIX store only) Join Sherry Kimmel\, Signature Member of The Arizona Watercolor Association and The Contemporary Watercolorists of Arizona\, as she guides you in creating an abstract landscape mixed-media collage! The class will be hosted here at our Phoenix location on Friday\, August 16th from 10:00 a.m. to 3:00 p.m. \nGet ready to unleash your creativity! In this class you’ll use a variety of collage papers and paints to create a textured\, abstract\, landscape scene! Choose between acrylic or watercolor paints and handmade\, textured\, or printed collage papers. With so many options to choose from\, you’ll be able to create a personalized\, one-of-a-kind\, collage piece we’re sure you’ll enjoy! \nThis artistic endeavor is one of Sherry’s personal favorites\, and we’re sure you’ll love the creative process and class too! Come join Sherry for a fun day in exploring the “Art of Collage”\, we hope to see you there! \n(For any questions regarding the class\, contact Sherry Kimmel at 602-300-1648 or daubsofpaint@yahoo.com) \nA $50.00 class fee is required to participate in this class\, some supplies are provided in this fee. Payment must be made out to Sherry Kimmel; you may pay through either PayPal or check.
URL:https://arizonaartsupply.com/event/phx-abstract-mixed-media-collage-landscapes-w-sherry-kimmel/
LOCATION:Arizona Art Supply (Phoenix)\, 4025 N. 16th ST\, Phoenix\, AZ\, 85016\, United States
END:VEVENT
BEGIN:VEVENT
DTSTART;TZID=UTC:20240628T103000
DTEND;TZID=UTC:20240628T123000
DTSTAMP:20260422T152759
CREATED:20240618T200128Z
LAST-MODIFIED:20240815T211450Z
UID:10000287-1719570600-1719577800@arizonaartsupply.com
SUMMARY:Free "Winsor & Newton Watercolor Event" with Angela Coppola!
DESCRIPTION:((You must call to RSVP\, our number is (602) 264-9514\, and must call us back to cancel your RSVP. Due to limited spacing for this event\, you may be put on a waitlist!)) \nCome join us this Friday\, June 28th from 10:30-12:30 for a FREE EVENT as Angela Coppola (partner of Winsor & Newton) guides you through painting a beautiful New Mexico Thistle plant! You’ll be using Winsor & Newton Professional Watercolors to create a vibrant\, striking\, detailed piece as she teaches and demonstrates color mixing\, mark making\, and various other techniques to help you create a vibrant botanical painting! \nWhether you’re a beginner or an experienced artist\, this workshop will enhance your skills and inspire your creativity! \nThe class is 100% FREE and ALL SUPPLIES WILL BE PROVIDED curtsy of Winsor & Newton! So call now to reserve your spot as space is limited!
URL:https://arizonaartsupply.com/event/free-winsor-newton-watercolor-event-with-angela-coppola-2/
LOCATION:Arizona Art Supply (Phoenix)\, 4025 N. 16th ST\, Phoenix\, AZ\, 85016\, United States
END:VEVENT
BEGIN:VEVENT
DTSTART;TZID=UTC:20240615T103000
DTEND;TZID=UTC:20240615T123000
DTSTAMP:20260422T152759
CREATED:20240529T233145Z
LAST-MODIFIED:20240815T211451Z
UID:10000286-1718447400-1718454600@arizonaartsupply.com
SUMMARY:Free "Winsor & Newton Watercolor Event" with Angela Coppola!
DESCRIPTION:((You MUST rsvp by phone at (602) 264-9514\, and must contact us back to cancel your rsvp. Due to limited spacing for this event\, you may be put on a waitlist!)) \nCome join us this Saturday\, June 15th from 10:30-12:30 for a FREE EVENT as Angela Coppola (partner of Winsor & Newton) guides you through painting a beautiful New Mexico Thistle plant! You’ll be using Winsor & Newton Professional Watercolors to create a vibrant\, striking\, detailed piece as she teaches and demonstrates color mixing\, mark making\, and various other techniques to help you create a vibrant botanical painting! \nWhether you’re a beginner or an experienced artist\, this workshop will enhance your skills and inspire your creativity! \nThe class is 100% FREE and ALL SUPPLIES WILL BE PROVIDED curtsy of Winsor & Newton! So call now to reserve your spot as space is limited!
URL:https://arizonaartsupply.com/event/free-winsor-newton-watercolor-event-with-angela-coppola/
LOCATION:Arizona Art Supply (Phoenix)\, 4025 N. 16th ST\, Phoenix\, AZ\, 85016\, United States
END:VEVENT
BEGIN:VEVENT
DTSTART;TZID=America/Phoenix:20240614T100000
DTEND;TZID=America/Phoenix:20240614T153000
DTSTAMP:20260422T152759
CREATED:20240524T190551Z
LAST-MODIFIED:20240815T211453Z
UID:10000285-1718359200-1718379000@arizonaartsupply.com
SUMMARY:"Painterly Collage w/ Water Media: Sunflowers" with Sherry L. Kimmel
DESCRIPTION:((Please contact Sherri directly in regards to making your payment or for any further questions regarding this class.)) \nGet ready to express yourself through the “Art of Collage”! Join Sherry Kimmel as she teaches you how to create collages centered around sunflowers! In the morning\, you’ll do an underpainting of your subject while painting and creating your collage papers. Then in the afternoon\, you’ll be working to apply your collage papers to your underpainting. \nSherry is a long time signature member of the Arizona Watercolor Association\, and has been teaching classes here in our store for many years! She’ll be able to help you create a one of a kind\, beautiful\, piece of artwork that we’re sure you’ll love! \nSome supplies will be provided\, curtesy of Sherri!
URL:https://arizonaartsupply.com/event/painterly-collage-w-water-media-sunflowers-with-sherry-l-kimmel/
LOCATION:Arizona Art Supply (Phoenix)\, 4025 N. 16th ST\, Phoenix\, AZ\, 85016\, United States
ORGANIZER;CN="Sherry Kimmel":MAILTO:daubsofpaint@yahoo.com
END:VEVENT
BEGIN:VEVENT
DTSTART;TZID=UTC:20240413T093000
DTEND;TZID=UTC:20240413T153000
DTSTAMP:20260422T152759
CREATED:20240229T200512Z
LAST-MODIFIED:20240815T211454Z
UID:10000022-1713000600-1713022200@arizonaartsupply.com
SUMMARY:"Free and Loose Watercolors - People and Action" with Grace Haverty
DESCRIPTION:
URL:https://arizonaartsupply.com/event/free-and-loose/
END:VEVENT
BEGIN:VEVENT
DTSTART;TZID=UTC:20240406T100000
DTEND;TZID=UTC:20240406T140000
DTSTAMP:20260422T152759
CREATED:20240229T200412Z
LAST-MODIFIED:20240815T211455Z
UID:10000021-1712397600-1712412000@arizonaartsupply.com
SUMMARY:"Metal Embossing for Beginners" with Terri Valencia
DESCRIPTION:
URL:https://arizonaartsupply.com/event/metal-embossing/
END:VEVENT
BEGIN:VEVENT
DTSTART;TZID=UTC:20240404T093000
DTEND;TZID=UTC:20240404T153000
DTSTAMP:20260422T152759
CREATED:20240229T200328Z
LAST-MODIFIED:20240815T211456Z
UID:10000020-1712223000-1712244600@arizonaartsupply.com
SUMMARY:"Loose and Free Watercolor Workshop" with Grace Haverty
DESCRIPTION:
URL:https://arizonaartsupply.com/event/loose-and-free-watercolor-workshop-with-grace-haverty/
END:VEVENT
BEGIN:VEVENT
DTSTART;TZID=UTC:20240329T100000
DTEND;TZID=UTC:20240329T150000
DTSTAMP:20260422T152759
CREATED:20240229T200249Z
LAST-MODIFIED:20240815T211457Z
UID:10000019-1711706400-1711724400@arizonaartsupply.com
SUMMARY:"Marvelous\, Magical Monoprinting" with Sherry Kimmel
DESCRIPTION:
URL:https://arizonaartsupply.com/event/marvelous/
END:VEVENT
BEGIN:VEVENT
DTSTART;TZID=UTC:20240324T100000
DTEND;TZID=UTC:20240324T140000
DTSTAMP:20260422T152759
CREATED:20240229T200208Z
LAST-MODIFIED:20240815T211458Z
UID:10000018-1711274400-1711288800@arizonaartsupply.com
SUMMARY:"Celtic Knotwork Design" with Terri Valencia
DESCRIPTION:
URL:https://arizonaartsupply.com/event/celtic-knotwork/
END:VEVENT
BEGIN:VEVENT
DTSTART;TZID=UTC:20240316T093000
DTEND;TZID=UTC:20240316T153000
DTSTAMP:20260422T152759
CREATED:20240229T200114Z
LAST-MODIFIED:20240815T211500Z
UID:10000017-1710581400-1710603000@arizonaartsupply.com
SUMMARY:"Loose and Juicy Florals Workshop" with Grace Haverty
DESCRIPTION:
URL:https://arizonaartsupply.com/event/loose-and-juicy/
END:VEVENT
BEGIN:VEVENT
DTSTART;TZID=UTC:20240309T100000
DTEND;TZID=UTC:20240309T140000
DTSTAMP:20260422T152759
CREATED:20240229T200026Z
LAST-MODIFIED:20240815T211502Z
UID:10000016-1709978400-1709992800@arizonaartsupply.com
SUMMARY:"Intro to Mandala Design" with Terri Valencia
DESCRIPTION:
URL:https://arizonaartsupply.com/event/intro-to-mandala/
END:VEVENT
BEGIN:VEVENT
DTSTART;TZID=UTC:20240308T100000
DTEND;TZID=UTC:20240308T150000
DTSTAMP:20260422T152759
CREATED:20200428T140523Z
LAST-MODIFIED:20240815T211503Z
UID:10000009-1709892000-1709910000@arizonaartsupply.com
SUMMARY:"Collage Labs II - Exploring Collage in Textures\, Transparency and Text" with Sherry Kimmel
DESCRIPTION:
URL:https://arizonaartsupply.com/event/collage-labs/
END:VEVENT
END:VCALENDAR