BEGIN:VCALENDAR
VERSION:2.0
PRODID:-//Arizona Art Supply - ECPv6.15.6//NONSGML v1.0//EN
CALSCALE:GREGORIAN
METHOD:PUBLISH
X-ORIGINAL-URL:https://arizonaartsupply.com
X-WR-CALDESC:Events for Arizona Art Supply
REFRESH-INTERVAL;VALUE=DURATION:PT1H
X-Robots-Tag:noindex
X-PUBLISHED-TTL:PT1H
BEGIN:VTIMEZONE
TZID:UTC
BEGIN:STANDARD
TZOFFSETFROM:+0000
TZOFFSETTO:+0000
TZNAME:UTC
DTSTART:20240101T000000
END:STANDARD
END:VTIMEZONE
BEGIN:VEVENT
DTSTART;TZID=UTC:20250605T130000
DTEND;TZID=UTC:20250605T160000
DTSTAMP:20260419T142455
CREATED:20250523T182534Z
LAST-MODIFIED:20250523T182534Z
UID:10002512-1749128400-1749139200@arizonaartsupply.com
SUMMARY:TUC: "Watercolor Techniques" w/ Caleb Grimes!
DESCRIPTION:(This class is available in our TUCSON store only) Are you an aspiring watercolorist? Do you already have some experience and are looking to do some painting and connecting with your community? We have just the thing! Our first demo of the year is coming up quick: Watercolor Techniques with local watercolorist\, Caleb Grimes (@watercolorshark) 🦈 \nJoin us for a 3 hour class on June 5th\, from 1:00-4:00pm\, where you will learn basic techniques to get you started on your watercolor journey. Be sure to sign up quickly! You can sign up in person\, over the phone\, or you can fill out the form linked below. See you all soon 😎🖌 \n✨SIGN UP HERE✨\nhttps://forms.gle/b6q44Qst2CsEngBq8 \n \nTucson Location Hours:\nMon-Sat: 9:30 AM – 6 PM\nSun: 12 AM – 5 PM
URL:https://arizonaartsupply.com/event/tuc-watercolor-techniques-w-caleb-grimes/
ATTACH;FMTTYPE=image/png:https://arizonaartsupply.com/wp-content/uploads/2025/05/Screenshot-325.png
END:VEVENT
END:VCALENDAR