BEGIN:VCALENDAR
VERSION:2.0
PRODID:-//Arizona Art Supply - ECPv6.15.6//NONSGML v1.0//EN
CALSCALE:GREGORIAN
METHOD:PUBLISH
X-WR-CALNAME:Arizona Art Supply
X-ORIGINAL-URL:https://arizonaartsupply.com
X-WR-CALDESC:Events for Arizona Art Supply
REFRESH-INTERVAL;VALUE=DURATION:PT1H
X-Robots-Tag:noindex
X-PUBLISHED-TTL:PT1H
BEGIN:VTIMEZONE
TZID:UTC
BEGIN:STANDARD
TZOFFSETFROM:+0000
TZOFFSETTO:+0000
TZNAME:UTC
DTSTART:20230101T000000
END:STANDARD
END:VTIMEZONE
BEGIN:VEVENT
DTSTART;TZID=UTC:20240404T093000
DTEND;TZID=UTC:20240404T153000
DTSTAMP:20260423T194148
CREATED:20240229T200328Z
LAST-MODIFIED:20240815T211456Z
UID:10000020-1712223000-1712244600@arizonaartsupply.com
SUMMARY:"Loose and Free Watercolor Workshop" with Grace Haverty
DESCRIPTION:
URL:https://arizonaartsupply.com/event/loose-and-free-watercolor-workshop-with-grace-haverty/
END:VEVENT
END:VCALENDAR